BEGIN:VCALENDAR
VERSION:2.0
PRODID:-//Dain Heer - ECPv6.13.1//NONSGML v1.0//EN
CALSCALE:GREGORIAN
METHOD:PUBLISH
X-WR-CALNAME:Dain Heer
X-ORIGINAL-URL:https://beingyouchangingtheworld.com/sl/
X-WR-CALDESC:Dogodki za Dain Heer
REFRESH-INTERVAL;VALUE=DURATION:PT1H
X-Robots-Tag:noindex
X-PUBLISHED-TTL:PT1H
BEGIN:VTIMEZONE
TZID:UTC
BEGIN:STANDARD
TZOFFSETFROM:+0000
TZOFFSETTO:+0000
TZNAME:UTC
DTSTART:20250101T000000
END:STANDARD
END:VTIMEZONE
BEGIN:VEVENT
DTSTART;VALUE=DATE:20250613
DTEND;VALUE=DATE:20250614
DTSTAMP:20260421T122506
CREATED:20250313T112243Z
LAST-MODIFIED:20250313T113957Z
UID:418145-1749772800-1749859199@beingyouchangingtheworld.com
SUMMARY:Being You\, Changing the World
DESCRIPTION:
URL:https://beingyouchangingtheworld.com/sl/event/being-you-changing-the-world-argentina/
END:VEVENT
BEGIN:VEVENT
DTSTART;VALUE=DATE:20250622
DTEND;VALUE=DATE:20250623
DTSTAMP:20260421T122506
CREATED:20240602T175444Z
LAST-MODIFIED:20250528T111303Z
UID:415721-1750550400-1750636799@beingyouchangingtheworld.com
SUMMARY:International Being You Day
DESCRIPTION:
URL:https://beingyouchangingtheworld.com/sl/event/international-being-you-day/
END:VEVENT
END:VCALENDAR